BEGIN:VCALENDAR
VERSION:2.0
PRODID:-//Imkerverein-Nebra, Bienenlehrgarten - ECPv6.15.14//NONSGML v1.0//EN
CALSCALE:GREGORIAN
METHOD:PUBLISH
X-ORIGINAL-URL:https://imkerverein-nebra.de
X-WR-CALDESC:Veranstaltungen für Imkerverein-Nebra, Bienenlehrgarten
REFRESH-INTERVAL;VALUE=DURATION:PT1H
X-Robots-Tag:noindex
X-PUBLISHED-TTL:PT1H
BEGIN:VTIMEZONE
TZID:UTC
BEGIN:STANDARD
TZOFFSETFROM:+0000
TZOFFSETTO:+0000
TZNAME:UTC
DTSTART:20250101T000000
END:STANDARD
END:VTIMEZONE
BEGIN:VEVENT
DTSTART;TZID=UTC:20260723T170000
DTEND;TZID=UTC:20260723T180000
DTSTAMP:20260422T225925
CREATED:20240517T103018Z
LAST-MODIFIED:20251223T183328Z
UID:632-1784826000-1784829600@imkerverein-nebra.de
SUMMARY:Arbeitseinsatz - Vorbereitung Neuimkerkurs
DESCRIPTION:
URL:https://imkerverein-nebra.de/event/arbeitseinsatz-2/
LOCATION:Bienenlehrgarten\, Unter der Altenburg 1\, Nebra(Unstrut)\, 06642
CATEGORIES:Vereinsarbeit
END:VEVENT
END:VCALENDAR