BEGIN:VCALENDAR
VERSION:2.0
PRODID:-//Imkerverein-Nebra, Bienenlehrgarten - ECPv6.15.14//NONSGML v1.0//EN
CALSCALE:GREGORIAN
METHOD:PUBLISH
X-ORIGINAL-URL:https://imkerverein-nebra.de
X-WR-CALDESC:Veranstaltungen für Imkerverein-Nebra, Bienenlehrgarten
REFRESH-INTERVAL;VALUE=DURATION:PT1H
X-Robots-Tag:noindex
X-PUBLISHED-TTL:PT1H
BEGIN:VTIMEZONE
TZID:Europe/Berlin
BEGIN:DAYLIGHT
TZOFFSETFROM:+0100
TZOFFSETTO:+0200
TZNAME:CEST
DTSTART:20250330T010000
END:DAYLIGHT
BEGIN:STANDARD
TZOFFSETFROM:+0200
TZOFFSETTO:+0100
TZNAME:CET
DTSTART:20251026T010000
END:STANDARD
BEGIN:DAYLIGHT
TZOFFSETFROM:+0100
TZOFFSETTO:+0200
TZNAME:CEST
DTSTART:20260329T010000
END:DAYLIGHT
BEGIN:STANDARD
TZOFFSETFROM:+0200
TZOFFSETTO:+0100
TZNAME:CET
DTSTART:20261025T010000
END:STANDARD
BEGIN:DAYLIGHT
TZOFFSETFROM:+0100
TZOFFSETTO:+0200
TZNAME:CEST
DTSTART:20270328T010000
END:DAYLIGHT
BEGIN:STANDARD
TZOFFSETFROM:+0200
TZOFFSETTO:+0100
TZNAME:CET
DTSTART:20271031T010000
END:STANDARD
END:VTIMEZONE
BEGIN:VEVENT
DTSTART;TZID=Europe/Berlin:20260822T100000
DTEND;TZID=Europe/Berlin:20260822T140000
DTSTAMP:20260423T003138
CREATED:20250506T150335Z
LAST-MODIFIED:20260302T113752Z
UID:1187-1787392800-1787407200@imkerverein-nebra.de
SUMMARY:Met herstellen leicht gemacht – Vom Honig zum Honigwein  zur Anmeldung >>
DESCRIPTION:Lehrgang für Imker \nIn diesem Kurs zeigen wir\, wie man aus eigenem Honig auf einfache Weise Met herstellt – verständlich erklärt und mit vielen praktischen Tipps. \nSchritt für Schritt gehen wir den Weg vom Honig zum fertigen Getränk: Welche Zutaten braucht man? Wie setzt man richtig an? Was muss sauber sein? Wie läuft die Gärung ab\, und wann kann abgefüllt werden? Auch typische Fehler und rechtliche Fragen für den Eigenbedarf oder Verkauf werden angesprochen. \nThemen im Überblick: \n\n\nZutaten und Vorbereitung \n\n\nHefe und Gärung \n\n\nHygiene beim Metbrauen \n\n\nAbfüllung und Lagerung \n\n\nHaltbarkeit und Lagerzeit \n\n\nRechtliches rund um Eigenherstellung und Abgabe \n\n\nZum Abschluss gibt es eine kleine Verkostung.Alle Teilnehmenden dürfen gern eigenen Met mitbringen – zum Probieren\, Fachsimpeln und Erfahrungsaustausch. \nDer Kurs richtet sich an Imker\, die ihren Honig einmal anders nutzen möchten – ganz ohne Vorkenntnisse in der Metherstellung. \nBitte meldet euch für die Veranstaltung an.
URL:https://imkerverein-nebra.de/event/met-herstellen-leicht-gemacht-vom-honig-zum-honigwein/
LOCATION:Bienenlehrgarten\, Unter der Altenburg 1\, Nebra(Unstrut)\, 06642
CATEGORIES:geschlossene Veranstaltung
ATTACH;FMTTYPE=image/png:https://imkerverein-nebra.de/wp-content/uploads/2025/05/met_k.png
END:VEVENT
END:VCALENDAR