BEGIN:VCALENDAR
VERSION:2.0
PRODID:-//Imkerverein-Nebra, Bienenlehrgarten - ECPv6.15.14//NONSGML v1.0//EN
CALSCALE:GREGORIAN
METHOD:PUBLISH
X-WR-CALNAME:Imkerverein-Nebra, Bienenlehrgarten
X-ORIGINAL-URL:https://imkerverein-nebra.de
X-WR-CALDESC:Veranstaltungen für Imkerverein-Nebra, Bienenlehrgarten
REFRESH-INTERVAL;VALUE=DURATION:PT1H
X-Robots-Tag:noindex
X-PUBLISHED-TTL:PT1H
BEGIN:VTIMEZONE
TZID:Europe/Berlin
BEGIN:DAYLIGHT
TZOFFSETFROM:+0100
TZOFFSETTO:+0200
TZNAME:CEST
DTSTART:20240331T010000
END:DAYLIGHT
BEGIN:STANDARD
TZOFFSETFROM:+0200
TZOFFSETTO:+0100
TZNAME:CET
DTSTART:20241027T010000
END:STANDARD
BEGIN:DAYLIGHT
TZOFFSETFROM:+0100
TZOFFSETTO:+0200
TZNAME:CEST
DTSTART:20250330T010000
END:DAYLIGHT
BEGIN:STANDARD
TZOFFSETFROM:+0200
TZOFFSETTO:+0100
TZNAME:CET
DTSTART:20251026T010000
END:STANDARD
BEGIN:DAYLIGHT
TZOFFSETFROM:+0100
TZOFFSETTO:+0200
TZNAME:CEST
DTSTART:20260329T010000
END:DAYLIGHT
BEGIN:STANDARD
TZOFFSETFROM:+0200
TZOFFSETTO:+0100
TZNAME:CET
DTSTART:20261025T010000
END:STANDARD
BEGIN:DAYLIGHT
TZOFFSETFROM:+0100
TZOFFSETTO:+0200
TZNAME:CEST
DTSTART:20270328T010000
END:DAYLIGHT
BEGIN:STANDARD
TZOFFSETFROM:+0200
TZOFFSETTO:+0100
TZNAME:CET
DTSTART:20271031T010000
END:STANDARD
END:VTIMEZONE
BEGIN:VTIMEZONE
TZID:UTC
BEGIN:STANDARD
TZOFFSETFROM:+0000
TZOFFSETTO:+0000
TZNAME:UTC
DTSTART:20230101T000000
END:STANDARD
END:VTIMEZONE
BEGIN:VEVENT
DTSTART;TZID=Europe/Berlin:20260418T100000
DTEND;TZID=Europe/Berlin:20260418T120000
DTSTAMP:20260422T155559
CREATED:20260317T140055Z
LAST-MODIFIED:20260329T214045Z
UID:1727-1776506400-1776513600@imkerverein-nebra.de
SUMMARY:Blühflächen als Lebensraum für Bestäuber  zur Anmeldung >>
DESCRIPTION:Wie können Blühflächen so angelegt werden\, dass sie Bienen\, Wildbienen\, Schmetterlingen und vielen weiteren Nützlingen wirklich helfen?\nWelche Pflanzen eignen sich für unterschiedliche Standorte\, worauf ist bei der Planung zu achten und wie gelingt eine naturnahe\, nachhaltige Pflege im urbanen Raum? \nDiesen Fragen widmet sich unsere Informationsveranstaltung „Blühflächen als Lebensraum für Bestäuber“ am 18. April 2026 von 10:00 bis 12:00 Uhr.\nDie Veranstaltung vermittelt praxisnah und fachlich fundiert die wichtigsten Grundlagen zur Konzeption\, Anlage und Entwicklung von Blühflächen. Im Mittelpunkt stehen dabei die naturnahe Gestaltung\, die standortgerechte Auswahl regionaler Wildpflanzen sowie wichtige Pflegeaspekte\, damit aus einer Fläche nicht nur ein schöner Anblick\, sondern ein wertvoller Lebensraum für Bestäuber und andere Nützlinge wird. \nGerade in unserer zunehmend intensiv genutzten Landschaft und auch im städtischen Umfeld gewinnen artenreiche Blühflächen immer mehr an Bedeutung. Sie leisten einen wichtigen Beitrag zur Förderung der Biodiversität\, schaffen Nahrungsangebote und Rückzugsräume und können dabei zugleich das Ortsbild bereichern. Die Veranstaltung zeigt\, wie solche Flächen sinnvoll geplant und umgesetzt werden können und welche Fehler sich bereits im Vorfeld vermeiden lassen. \nEingeladen sind Imkerinnen und Imker ebenso wie alle weiteren Interessierten\, die Blühflächen fachlich fundiert anlegen oder ihr Wissen zu diesem Thema erweitern möchten. Ganz gleich\, ob Sie bereits erste Erfahrungen gesammelt haben oder sich neu mit dem Thema beschäftigen: Die Veranstaltung bietet wertvolle Impulse\, Hintergrundwissen und praxisnahe Anregungen für die eigene Umsetzung. \nAls Referentinnen begrüßen wir:\nCarolin Feimer\nDr. Karina Engst\nKompetenzGrün\, Hochschule Anhalt
URL:https://imkerverein-nebra.de/event/bluehflaechen-als-lebensraum-fuer-bestaeuber/
LOCATION:Bienenlehrgarten\, Unter der Altenburg 1\, Nebra(Unstrut)\, 06642
CATEGORIES:öffentliche Veranstaltung
END:VEVENT
BEGIN:VEVENT
DTSTART;TZID=Europe/Berlin:20260411T090000
DTEND;TZID=Europe/Berlin:20260411T153000
DTSTAMP:20260422T155559
CREATED:20250206T164145Z
LAST-MODIFIED:20251014T153430Z
UID:963-1775898000-1775921400@imkerverein-nebra.de
SUMMARY:2. Tag Neuimkerkurs
DESCRIPTION:
URL:https://imkerverein-nebra.de/event/2-tag-neuimkerkurs/
LOCATION:Bienenlehrgarten\, Unter der Altenburg 1\, Nebra(Unstrut)\, 06642
CATEGORIES:geschlossene Veranstaltung
END:VEVENT
BEGIN:VEVENT
DTSTART;TZID=UTC:20260409T180000
DTEND;TZID=UTC:20260409T200000
DTSTAMP:20260422T155559
CREATED:20250127T135416Z
LAST-MODIFIED:20251217T173249Z
UID:913-1775757600-1775764800@imkerverein-nebra.de
SUMMARY:Imkerstammtisch
DESCRIPTION:Liebe Imkerfreunde und Interessierte\,\nwir laden euch herzlich zu unserem Imker-Stammtisch ein\, der immer am Donnerstag vor dem neuen Imkerkurs stattfindet.\nDer Stammtisch bietet die perfekte Gelegenheit\, in gemütlicher Runde beisammen zu sein\, zu fachsimpeln\, Fragen zu stellen und spannende Einblicke in die Welt der Imkerei zu gewinnen. Besonders die neuen Imkerinnen und Imker können sich hier mit den erfahrenen Kolleginnen und Kollegen austauschen und wertvolle Tipps mitnehmen. \nNeben dem Austausch rund um Bienen und Honig gibt es auch immer interessante Informationen zur Vereinsarbeit und anstehenden Aktivitäten. \n🔔 Wichtig: Der Stammtisch ist nicht nur für Vereinsmitglieder gedacht – auch alle Interessierten sind herzlich willkommen!\nKommt vorbei\, lernt uns kennen und taucht ein in die faszinierende Welt der Bienen. \nWir freuen uns auf einen unterhaltsamen und informativen Abend mit euch! 🐝🍻 \nHerzliche Grüße\,\nDer Vorstand
URL:https://imkerverein-nebra.de/event/imkerstammtisch/
LOCATION:Bienenlehrgarten\, Unter der Altenburg 1\, Nebra(Unstrut)\, 06642
CATEGORIES:öffentliche Veranstaltung
END:VEVENT
BEGIN:VEVENT
DTSTART;TZID=Europe/Berlin:20260409T170000
DTEND;TZID=Europe/Berlin:20260409T180000
DTSTAMP:20260422T155559
CREATED:20250127T135241Z
LAST-MODIFIED:20251217T173128Z
UID:910-1775754000-1775757600@imkerverein-nebra.de
SUMMARY:Arbeitseinsatz - Vorbereitung Neuimkerkurs
DESCRIPTION:
URL:https://imkerverein-nebra.de/event/arbeitseinsatz-vorbereitung-neuimkerkurs/
LOCATION:Bienenlehrgarten\, Unter der Altenburg 1\, Nebra(Unstrut)\, 06642
CATEGORIES:Vereinsarbeit
END:VEVENT
BEGIN:VEVENT
DTSTART;TZID=Europe/Berlin:20260321T090000
DTEND;TZID=Europe/Berlin:20260321T120000
DTSTAMP:20260422T155559
CREATED:20251223T182508Z
LAST-MODIFIED:20251223T182508Z
UID:758-1774083600-1774094400@imkerverein-nebra.de
SUMMARY:Arbeitseinsatz - Frühjahrsputz
DESCRIPTION:
URL:https://imkerverein-nebra.de/event/arbeitseinsatz-fruehjahrsputz/
LOCATION:Bienenlehrgarten\, Unter der Altenburg 1\, Nebra(Unstrut)\, 06642
CATEGORIES:Vereinsarbeit
END:VEVENT
BEGIN:VEVENT
DTSTART;TZID=Europe/Berlin:20260314T090000
DTEND;TZID=Europe/Berlin:20260314T153000
DTSTAMP:20260422T155559
CREATED:20250127T134932Z
LAST-MODIFIED:20251014T153516Z
UID:907-1773478800-1773502200@imkerverein-nebra.de
SUMMARY:1. Tag Neuimkerkurs
DESCRIPTION:
URL:https://imkerverein-nebra.de/event/1-tag-neuimkerkurs/
LOCATION:Jugendherberge Nebra\, Nebra
CATEGORIES:geschlossene Veranstaltung
END:VEVENT
BEGIN:VEVENT
DTSTART;TZID=Europe/Berlin:20260312T170000
DTEND;TZID=Europe/Berlin:20260312T180000
DTSTAMP:20260422T155559
CREATED:20240517T102746Z
LAST-MODIFIED:20251217T173024Z
UID:628-1773334800-1773338400@imkerverein-nebra.de
SUMMARY:Arbeitseinsatz - Vorbereitung Neuimkerkurs
DESCRIPTION:
URL:https://imkerverein-nebra.de/event/arbeitseinsatz/
LOCATION:Bienenlehrgarten\, Unter der Altenburg 1\, Nebra(Unstrut)\, 06642
CATEGORIES:Vereinsarbeit
END:VEVENT
BEGIN:VEVENT
DTSTART;TZID=UTC:20260306T180000
DTEND;TZID=UTC:20260306T200000
DTSTAMP:20260422T155559
CREATED:20240517T105732Z
LAST-MODIFIED:20260218T162510Z
UID:649-1772820000-1772827200@imkerverein-nebra.de
SUMMARY:Mitgliederversammlungzur Anmeldung >>
DESCRIPTION:Sehr geehrtes Vereinsmitglied\, \nhiermit lädt euch der Vorstand zu unserer Mitgliederversammlung 2026 herzlich ein. \nTermin: \n Freitag den 06.03.2026  Beginn: 18:00 Uhr  Ort: Ratskeller\, Markt 1\, 06636 Laucha an der Unstrut \nTagesordnung: \n\nBegrüßung 2. Bericht des Vorstandes3. Bericht der Schatzmeisterin4. Bericht der Revisionskommission 5. Entlastung des Vorstandes für das Jahr 20256. Sonstige Fragestellungen\, Vorschläge und Meinungsaustausch7. Gemütliches Beisammensein.\n\nWir freuen uns auf eine rege Teilnahme. \n  \nMit freundlichen Grüßen \nSven SommerVereinsvorsitzender
URL:https://imkerverein-nebra.de/event/mitgliederversammlung/
LOCATION:Ratskeller Laucha
CATEGORIES:Vereinsarbeit
END:VEVENT
BEGIN:VEVENT
DTSTART;TZID=Europe/Berlin:20250921T150000
DTEND;TZID=Europe/Berlin:20250921T180000
DTSTAMP:20260422T155559
CREATED:20250206T165013Z
LAST-MODIFIED:20250903T205301Z
UID:979-1758466800-1758477600@imkerverein-nebra.de
SUMMARY:Standbegehung Imkerei André Diers  zur Anmeldung >>
DESCRIPTION:
URL:https://imkerverein-nebra.de/event/besuch-des-imkermuseums-in-weimar/
LOCATION:Laucha
CATEGORIES:Vereinsarbeit
END:VEVENT
BEGIN:VEVENT
DTSTART;TZID=Europe/Berlin:20250906T160000
DTEND;TZID=Europe/Berlin:20250906T180000
DTSTAMP:20260422T155559
CREATED:20250206T165642Z
LAST-MODIFIED:20250903T205238Z
UID:983-1757174400-1757181600@imkerverein-nebra.de
SUMMARY:„Imker-Partner-Auszeit“  zur Anmeldung >>
DESCRIPTION:Liebe Partnerinnen und Partner unserer fleißigen Imker\, \nhabt ihr auch schon einmal gedacht: „Wenn ich noch einmal das Wort Bienenstock höre…“ oder „Schön\, dass der Honig wieder klebt – überall außer im Glas…“? Dann ist das hier euer Nachmittag! 🐝☕ \nWir wissen: Hinter jedem passionierten Imker steht ein geduldiger Mensch\, der das Summen und Brummen nicht nur aus den Bienenstöcken kennt\, sondern auch aus dem Alltag. Ob spontane Ausflüge zu den Bienen\, der Duft von Rauch in der Kleidung oder Honiggläser\, die sich heimlich in jedem Schrank stapeln – ihr kennt die wahren Herausforderungen des Imker-Daseins! \nDeshalb möchten wir euch herzlich zu einer besonderen Veranstaltung einladen\, bei der nur ihr im Mittelpunkt steht:🗓️ Wann: 6. September 2025\, 16:00 – 18:00 Uhr📍 Wo: Bienenlehrgarten Nebra \nLasst uns in entspannter Runde zusammenkommen\, Erfahrungen austauschen\, herzhaft lachen und vielleicht das eine oder andere „Bienenabenteuer“ teilen. Bei Kaffee\, Kuchen und guter Gesellschaft könnt ihr einfach mal abschalten\, plaudern und euch vernetzen. \nUnd die Imker? Die müssen diesmal zu Hause bleiben – schließlich brauchen auch wir mal eine kleine Verschnaufpause vom Honig-Imperium! 😉 Hier darf frei von der Seele weg geredet werden – ohne Fachgesimpel über Schwarmkontrollen oder Honigernten. \nWir freuen uns auf einen tollen Nachmittag mit euch\, voller guter Gespräche und vielleicht der Erkenntnis: Geteiltes Leid ist halbes Leid! 😄 \nBitte gebt uns kurz Bescheid\, ob ihr dabei seid. \nHerzliche Grüße\,\nDer Vorstand
URL:https://imkerverein-nebra.de/event/imker-partner-auszeit/
LOCATION:Bienenlehrgarten\, Unter der Altenburg 1\, Nebra(Unstrut)\, 06642
CATEGORIES:Vereinsarbeit
END:VEVENT
BEGIN:VEVENT
DTSTART;TZID=Europe/Berlin:20250705T090000
DTEND;TZID=Europe/Berlin:20250705T110000
DTSTAMP:20260422T155559
CREATED:20250701T170456Z
LAST-MODIFIED:20250701T170602Z
UID:1372-1751706000-1751713200@imkerverein-nebra.de
SUMMARY:Arbeitseinsatz
DESCRIPTION:
URL:https://imkerverein-nebra.de/event/arbeitseinsatz-8/
LOCATION:Bienenlehrgarten\, Unter der Altenburg 1\, Nebra(Unstrut)\, 06642
CATEGORIES:Vereinsarbeit
END:VEVENT
BEGIN:VEVENT
DTSTART;TZID=Europe/Berlin:20250624T180000
DTEND;TZID=Europe/Berlin:20250624T190000
DTSTAMP:20260422T155559
CREATED:20250601T191108Z
LAST-MODIFIED:20250611T134739Z
UID:1224-1750788000-1750791600@imkerverein-nebra.de
SUMMARY:EU-Bienenförderung in Sachsen-Anhalt – Jetzt Fördermöglichkeiten nutzen!
DESCRIPTION:Einladung zum kostenfreien Web-Seminar: EU-Bienenförderung in Sachsen-Anhalt – Jetzt Fördermöglichkeiten nutzen! \nSie sind Neuimker oder planen Investitionen in Ihre Imkerei?\nDann laden wir Sie herzlich zu unserem kostenlosen Web-Seminar rund um das Thema EU-Bienenförderung in Sachsen-Anhalt ein! \nUnsere Referenten Herr André Döring und Frau Nent vom Amt für Landwirtschaft\, Flurneuordnung und Forsten Mitte (ALFF Mitte) erläutert die Antragstellung am praktischen Beispiel und gibt wertvolle Tipps auf was man achten sollte. \nInhalt der Veranstaltung: \n\nBegrüßung\nInformationen des Imkerverbandes Sachsen-Anhalt e.V.\, vertreten durch Dr. Paul Schenk\nÜberblick über das EU-Bienenförderprogramm in Sachsen-Anhalt\nFörderfähige Maßnahmen\nDetaillierte Erläuterung der Förderkonditionen\nSchritt-für-Schritt-Anleitung zur Antragstellung\nWelche Unterlagen müssen eingereicht werden?\n\nDas Web-Seminar richtet sich speziell an: \n\nNeuimker\, die ihre Imkerei aufbauen möchten\nImkerinnen und Imker\, die gezielt in ihre Ausstattung investieren und dafür Fördermittel nutzen wollen\n\nEs gibt bestimmt schon jetzt die ein oder andere Frage.\nUm die Fragerunde am Ende des Seminares für den Referenten zu erleichtern\, wäre es schön uns diese vorher zuzusenden.\nSchreibt dazu einfach an seminare@bienenlehrgarten.de. \nBitte melden Sie sich für die Veranstaltung an\, damit wir den Link zur Veranstaltung an Sie senden können.\nDen Link zum Seminar senden wir mit einer Erinnerungsmail einen Tag vorher zu. \nWir freuen uns auf Ihre Teilnahme.
URL:https://imkerverein-nebra.de/event/eu-bienenfoerderung-in-sachsen-anhalt-jetzt-foerdermoeglichkeiten-nutzen/
LOCATION:online\, online
CATEGORIES:geschlossene Veranstaltung
ATTACH;FMTTYPE=image/jpeg:https://imkerverein-nebra.de/wp-content/uploads/2025/06/biene.jpg
END:VEVENT
BEGIN:VEVENT
DTSTART;TZID=UTC:20250524T090000
DTEND;TZID=UTC:20250524T120000
DTSTAMP:20260422T155559
CREATED:20250424T144251Z
LAST-MODIFIED:20250424T144251Z
UID:1168-1748077200-1748088000@imkerverein-nebra.de
SUMMARY:Arbeitseinsatz
DESCRIPTION:
URL:https://imkerverein-nebra.de/event/arbeitseinsatz-7/
LOCATION:Bienenlehrgarten\, Unter der Altenburg 1\, Nebra(Unstrut)\, 06642
CATEGORIES:Vereinsarbeit
END:VEVENT
BEGIN:VEVENT
DTSTART;TZID=UTC:20250515T170000
DTEND;TZID=UTC:20250515T200000
DTSTAMP:20260422T155559
CREATED:20250217T134559Z
LAST-MODIFIED:20250217T134559Z
UID:1064-1747328400-1747339200@imkerverein-nebra.de
SUMMARY:Netzwerktreffen "handgemacht Saale-Unstrut"
DESCRIPTION:Agenda: \n17 Uhr Beginn: Begrüßung und Aktuelles zum Netzwerk\n17:30 Uhr: Der Bienenlehrgarten stellt sich vor\n18:00 Uhr: Austausch beim gemeinsamen Essen\, Buffet selbst gestaltet durch Netzwerkpartner
URL:https://imkerverein-nebra.de/event/netzwerktreffen-handgemacht-saale-unstrut/
LOCATION:Bienenlehrgarten\, Unter der Altenburg 1\, Nebra(Unstrut)\, 06642
CATEGORIES:geschlossene Veranstaltung
END:VEVENT
BEGIN:VEVENT
DTSTART;TZID=UTC:20250313T170000
DTEND;TZID=UTC:20250313T180000
DTSTAMP:20260422T155559
CREATED:20250213T155346Z
LAST-MODIFIED:20250213T170241Z
UID:1030-1741885200-1741888800@imkerverein-nebra.de
SUMMARY:Futterkranzprobe richtig entnehmen und einreichen
DESCRIPTION:Der Bienenlehrgarten Nebra lädt Sie herzlich zu einem Präsenzseminar ein.\nHier lernen Sie Schritt für Schritt\, wie Sie eine Futterkranzprobe fachgerecht entnehmen und zur Analyse einreichen.\nUnsere erfahrenen Experten vermitteln Ihnen wertvolle Tipps und Hintergrundwissen zur Bedeutung der Futterkranzprobe für die Bienengesundheit. \nDas Seminar bietet:✅ Praktische Vorführung der Probenentnahme am Bienenvolk✅ Anleitung zur korrekten Kennzeichnung und Verpackung der Probe✅ Informationen zur Einreichung und Auswertung der Ergebnisse \nNutzen Sie die Gelegenheit Ihr Wissen zu vertiefen und unsere Bienen nachhaltig gesund zu halten. \nFür Mitglieder ist das Seminar kostenfrei\, sonstige Teilnehmer werden um einen Unkostenbeitrag von 5\,00 Euro gebeten.\nSelbiger wird vor Ort eingesammelt.
URL:https://imkerverein-nebra.de/event/futterkranzprobe-richtig-entnehmen-und-einreichen/
LOCATION:Bienenlehrgarten\, Unter der Altenburg 1\, Nebra(Unstrut)\, 06642
CATEGORIES:öffentliche Veranstaltung
END:VEVENT
BEGIN:VEVENT
DTSTART;TZID=UTC:20250228T160000
DTEND;TZID=UTC:20250228T170000
DTSTAMP:20260422T155559
CREATED:20250130T122832Z
LAST-MODIFIED:20250130T122832Z
UID:922-1740758400-1740762000@imkerverein-nebra.de
SUMMARY:Steuerfragen in der Imkerei  und E-Rechnungspflicht
DESCRIPTION:
URL:https://imkerverein-nebra.de/event/steuerfragen-in-der-imkerei-und-e-rechnungspflicht/
LOCATION:online\, online
CATEGORIES:öffentliche Veranstaltung
END:VEVENT
BEGIN:VEVENT
DTSTART;TZID=UTC:20240922T140000
DTEND;TZID=UTC:20240922T160000
DTSTAMP:20260422T155559
CREATED:20240916T075709Z
LAST-MODIFIED:20240916T075709Z
UID:818-1727013600-1727020800@imkerverein-nebra.de
SUMMARY:Vernetzungstreffen Imkerverein Roßleben
DESCRIPTION:
URL:https://imkerverein-nebra.de/event/vernetzungstreffen-imkerverein-rossleben/
CATEGORIES:Vereinsarbeit
END:VEVENT
BEGIN:VEVENT
DTSTART;TZID=UTC:20240606T130000
DTEND;TZID=UTC:20240606T170000
DTSTAMP:20260422T155559
CREATED:20240516T071431Z
LAST-MODIFIED:20240517T105218Z
UID:593-1717678800-1717693200@imkerverein-nebra.de
SUMMARY:Netzwerktreffen "Netzwerk Nachhaltigkeit in der Wirtschaft"
DESCRIPTION:Imkerverein Unstruttal Nebra und Umgebung e.V.\n						\n						\n						\n					\n				\n					\n				\n				\n				\n			\n				\n				\n			\n				\n				\n				\n				\n				\n				\n				\n					\n					\n					\n					\n					\n						\n			  \n				\n			  \n			\n						\n							\n								Startseite\nUnser Imkerverein\n\n	Standbegehungen\n	Ein Hobby für Alt und Jung!\n	Unsere Linktipps\n	Termine\n	über unseren Verein\n\n\nBienenlehrgarten\n\n	Anfrage von Führungen durch den Bienenlehrgarten\n	Neuimkerkurs\n	\n		Informationen zum Kurs 2026\n		Anmeldung Neuimkerkurs 2026\n	\n\n	Der Bienenlehrgarten\n	Wir brauchen Bienen\n	Über das Imkern\n\n\nImker-Blog\nKontakt
URL:https://imkerverein-nebra.de/event/netzwerktreffen-netzwerk-nachhaltigkeit-in-der-wirtschaft/
CATEGORIES:geschlossene Veranstaltung
END:VEVENT
BEGIN:VEVENT
DTSTART;TZID=UTC:20240601T090000
DTEND;TZID=UTC:20240601T150000
DTSTAMP:20260422T155559
CREATED:20240517T105444Z
LAST-MODIFIED:20240517T105450Z
UID:647-1717232400-1717254000@imkerverein-nebra.de
SUMMARY:4. Seminartag Neuimkerkurs 2024
DESCRIPTION:Treffpunkt: Bienenlehrgarten Nebra/U.\, Unter der Altenburg 1
URL:https://imkerverein-nebra.de/event/4-seminartag-neuimkerkurs-2024/
CATEGORIES:geschlossene Veranstaltung
END:VEVENT
END:VCALENDAR