BEGIN:VCALENDAR
VERSION:2.0
PRODID:-//Imkerverein-Nebra, Bienenlehrgarten - ECPv6.15.14//NONSGML v1.0//EN
CALSCALE:GREGORIAN
METHOD:PUBLISH
X-ORIGINAL-URL:https://imkerverein-nebra.de
X-WR-CALDESC:Veranstaltungen für Imkerverein-Nebra, Bienenlehrgarten
REFRESH-INTERVAL;VALUE=DURATION:PT1H
X-Robots-Tag:noindex
X-PUBLISHED-TTL:PT1H
BEGIN:VTIMEZONE
TZID:Europe/Berlin
BEGIN:DAYLIGHT
TZOFFSETFROM:+0100
TZOFFSETTO:+0200
TZNAME:CEST
DTSTART:20250330T010000
END:DAYLIGHT
BEGIN:STANDARD
TZOFFSETFROM:+0200
TZOFFSETTO:+0100
TZNAME:CET
DTSTART:20251026T010000
END:STANDARD
BEGIN:DAYLIGHT
TZOFFSETFROM:+0100
TZOFFSETTO:+0200
TZNAME:CEST
DTSTART:20260329T010000
END:DAYLIGHT
BEGIN:STANDARD
TZOFFSETFROM:+0200
TZOFFSETTO:+0100
TZNAME:CET
DTSTART:20261025T010000
END:STANDARD
BEGIN:DAYLIGHT
TZOFFSETFROM:+0100
TZOFFSETTO:+0200
TZNAME:CEST
DTSTART:20270328T010000
END:DAYLIGHT
BEGIN:STANDARD
TZOFFSETFROM:+0200
TZOFFSETTO:+0100
TZNAME:CET
DTSTART:20271031T010000
END:STANDARD
END:VTIMEZONE
BEGIN:VTIMEZONE
TZID:UTC
BEGIN:STANDARD
TZOFFSETFROM:+0000
TZOFFSETTO:+0000
TZNAME:UTC
DTSTART:20250101T000000
END:STANDARD
END:VTIMEZONE
BEGIN:VEVENT
DTSTART;TZID=Europe/Berlin:20260604T170000
DTEND;TZID=Europe/Berlin:20260604T180000
DTSTAMP:20260422T195340
CREATED:20250206T163004Z
LAST-MODIFIED:20251217T173637Z
UID:952-1780592400-1780596000@imkerverein-nebra.de
SUMMARY:Arbeitseinsatz
DESCRIPTION:
URL:https://imkerverein-nebra.de/event/arbeitseinsatz-5/
LOCATION:Bienenlehrgarten\, Unter der Altenburg 1\, Nebra(Unstrut)\, 06642
CATEGORIES:Vereinsarbeit
END:VEVENT
BEGIN:VEVENT
DTSTART;TZID=Europe/Berlin:20260604T180000
DTEND;TZID=Europe/Berlin:20260604T200000
DTSTAMP:20260422T195340
CREATED:20250206T163109Z
LAST-MODIFIED:20251217T173716Z
UID:954-1780596000-1780603200@imkerverein-nebra.de
SUMMARY:Imkerstammtisch
DESCRIPTION:Liebe Imkerfreunde und Interessierte\,\nwir laden euch herzlich zu unserem Imker-Stammtisch ein\, der immer am Donnerstag vor dem neuen Imkerkurs stattfindet.\nDer Stammtisch bietet die perfekte Gelegenheit\, in gemütlicher Runde beisammen zu sein\, zu fachsimpeln\, Fragen zu stellen und spannende Einblicke in die Welt der Imkerei zu gewinnen. Besonders die neuen Imkerinnen und Imker können sich hier mit den erfahrenen Kolleginnen und Kollegen austauschen und wertvolle Tipps mitnehmen. \nNeben dem Austausch rund um Bienen und Honig gibt es auch immer interessante Informationen zur Vereinsarbeit und anstehenden Aktivitäten. \n🔔 Wichtig: Der Stammtisch ist nicht nur für Vereinsmitglieder gedacht – auch alle Interessierten sind herzlich willkommen!\nKommt vorbei\, lernt uns kennen und taucht ein in die faszinierende Welt der Bienen. \nWir freuen uns auf einen unterhaltsamen und informativen Abend mit euch! 🐝🍻 \nHerzliche Grüße\,\nDer Vorstand
URL:https://imkerverein-nebra.de/event/imkerstammtisch-4/
LOCATION:Bienenlehrgarten\, Unter der Altenburg 1\, Nebra(Unstrut)\, 06642
CATEGORIES:öffentliche Veranstaltung
END:VEVENT
BEGIN:VEVENT
DTSTART;TZID=Europe/Berlin:20260606T090000
DTEND;TZID=Europe/Berlin:20260606T153000
DTSTAMP:20260422T195340
CREATED:20250206T164319Z
LAST-MODIFIED:20251014T153216Z
UID:967-1780736400-1780759800@imkerverein-nebra.de
SUMMARY:4. Tag Neuimkerkurs
DESCRIPTION:
URL:https://imkerverein-nebra.de/event/4-tag-neuimkerkurs/
LOCATION:Bienenlehrgarten\, Unter der Altenburg 1\, Nebra(Unstrut)\, 06642
CATEGORIES:geschlossene Veranstaltung
END:VEVENT
BEGIN:VEVENT
DTSTART;TZID=UTC:20260625T170000
DTEND;TZID=UTC:20260625T180000
DTSTAMP:20260422T195340
CREATED:20250206T162728Z
LAST-MODIFIED:20251217T173852Z
UID:948-1782406800-1782410400@imkerverein-nebra.de
SUMMARY:Arbeitseinsatz
DESCRIPTION:
URL:https://imkerverein-nebra.de/event/arbeitseinsatz-4/
LOCATION:Bienenlehrgarten\, Unter der Altenburg 1\, Nebra(Unstrut)\, 06642
CATEGORIES:Vereinsarbeit
END:VEVENT
BEGIN:VEVENT
DTSTART;TZID=Europe/Berlin:20260625T180000
DTEND;TZID=Europe/Berlin:20260625T200000
DTSTAMP:20260422T195340
CREATED:20250206T162810Z
LAST-MODIFIED:20251217T173813Z
UID:950-1782410400-1782417600@imkerverein-nebra.de
SUMMARY:Imkerstammtisch
DESCRIPTION:Liebe Imkerfreunde und Interessierte\,\nwir laden euch herzlich zu unserem Imker-Stammtisch ein\, der immer am Donnerstag vor dem neuen Imkerkurs stattfindet.\nDer Stammtisch bietet die perfekte Gelegenheit\, in gemütlicher Runde beisammen zu sein\, zu fachsimpeln\, Fragen zu stellen und spannende Einblicke in die Welt der Imkerei zu gewinnen. Besonders die neuen Imkerinnen und Imker können sich hier mit den erfahrenen Kolleginnen und Kollegen austauschen und wertvolle Tipps mitnehmen. \nNeben dem Austausch rund um Bienen und Honig gibt es auch immer interessante Informationen zur Vereinsarbeit und anstehenden Aktivitäten. \n🔔 Wichtig: Der Stammtisch ist nicht nur für Vereinsmitglieder gedacht – auch alle Interessierten sind herzlich willkommen!\nKommt vorbei\, lernt uns kennen und taucht ein in die faszinierende Welt der Bienen. \nWir freuen uns auf einen unterhaltsamen und informativen Abend mit euch! 🐝🍻 \nHerzliche Grüße\,\nDer Vorstand
URL:https://imkerverein-nebra.de/event/imkerstammtisch-3/
LOCATION:Bienenlehrgarten\, Unter der Altenburg 1\, Nebra(Unstrut)\, 06642
CATEGORIES:öffentliche Veranstaltung
END:VEVENT
BEGIN:VEVENT
DTSTART;TZID=Europe/Berlin:20260627T090000
DTEND;TZID=Europe/Berlin:20260627T153000
DTSTAMP:20260422T195340
CREATED:20250206T164359Z
LAST-MODIFIED:20251014T153236Z
UID:969-1782550800-1782574200@imkerverein-nebra.de
SUMMARY:5. Tag Neuimkerkurs
DESCRIPTION:
URL:https://imkerverein-nebra.de/event/5-tag-neuimkerkurs/
LOCATION:Bienenlehrgarten\, Unter der Altenburg 1\, Nebra(Unstrut)\, 06642
CATEGORIES:geschlossene Veranstaltung
END:VEVENT
END:VCALENDAR