BEGIN:VCALENDAR
VERSION:2.0
PRODID:-//Imkerverein-Nebra, Bienenlehrgarten - ECPv6.15.14//NONSGML v1.0//EN
CALSCALE:GREGORIAN
METHOD:PUBLISH
X-WR-CALNAME:Imkerverein-Nebra, Bienenlehrgarten
X-ORIGINAL-URL:https://imkerverein-nebra.de
X-WR-CALDESC:Veranstaltungen für Imkerverein-Nebra, Bienenlehrgarten
REFRESH-INTERVAL;VALUE=DURATION:PT1H
X-Robots-Tag:noindex
X-PUBLISHED-TTL:PT1H
BEGIN:VTIMEZONE
TZID:Europe/Berlin
BEGIN:DAYLIGHT
TZOFFSETFROM:+0100
TZOFFSETTO:+0200
TZNAME:CEST
DTSTART:20250330T010000
END:DAYLIGHT
BEGIN:STANDARD
TZOFFSETFROM:+0200
TZOFFSETTO:+0100
TZNAME:CET
DTSTART:20251026T010000
END:STANDARD
BEGIN:DAYLIGHT
TZOFFSETFROM:+0100
TZOFFSETTO:+0200
TZNAME:CEST
DTSTART:20260329T010000
END:DAYLIGHT
BEGIN:STANDARD
TZOFFSETFROM:+0200
TZOFFSETTO:+0100
TZNAME:CET
DTSTART:20261025T010000
END:STANDARD
BEGIN:DAYLIGHT
TZOFFSETFROM:+0100
TZOFFSETTO:+0200
TZNAME:CEST
DTSTART:20270328T010000
END:DAYLIGHT
BEGIN:STANDARD
TZOFFSETFROM:+0200
TZOFFSETTO:+0100
TZNAME:CET
DTSTART:20271031T010000
END:STANDARD
END:VTIMEZONE
BEGIN:VEVENT
DTSTART;TZID=Europe/Berlin:20260822T100000
DTEND;TZID=Europe/Berlin:20260822T140000
DTSTAMP:20260422T225743
CREATED:20250506T150335Z
LAST-MODIFIED:20260302T113752Z
UID:1187-1787392800-1787407200@imkerverein-nebra.de
SUMMARY:Met herstellen leicht gemacht – Vom Honig zum Honigwein  zur Anmeldung >>
DESCRIPTION:Lehrgang für Imker \nIn diesem Kurs zeigen wir\, wie man aus eigenem Honig auf einfache Weise Met herstellt – verständlich erklärt und mit vielen praktischen Tipps. \nSchritt für Schritt gehen wir den Weg vom Honig zum fertigen Getränk: Welche Zutaten braucht man? Wie setzt man richtig an? Was muss sauber sein? Wie läuft die Gärung ab\, und wann kann abgefüllt werden? Auch typische Fehler und rechtliche Fragen für den Eigenbedarf oder Verkauf werden angesprochen. \nThemen im Überblick: \n\n\nZutaten und Vorbereitung \n\n\nHefe und Gärung \n\n\nHygiene beim Metbrauen \n\n\nAbfüllung und Lagerung \n\n\nHaltbarkeit und Lagerzeit \n\n\nRechtliches rund um Eigenherstellung und Abgabe \n\n\nZum Abschluss gibt es eine kleine Verkostung.Alle Teilnehmenden dürfen gern eigenen Met mitbringen – zum Probieren\, Fachsimpeln und Erfahrungsaustausch. \nDer Kurs richtet sich an Imker\, die ihren Honig einmal anders nutzen möchten – ganz ohne Vorkenntnisse in der Metherstellung. \nBitte meldet euch für die Veranstaltung an.
URL:https://imkerverein-nebra.de/event/met-herstellen-leicht-gemacht-vom-honig-zum-honigwein/
LOCATION:Bienenlehrgarten\, Unter der Altenburg 1\, Nebra(Unstrut)\, 06642
CATEGORIES:geschlossene Veranstaltung
ATTACH;FMTTYPE=image/png:https://imkerverein-nebra.de/wp-content/uploads/2025/05/met_k.png
END:VEVENT
BEGIN:VEVENT
DTSTART;TZID=Europe/Berlin:20260829T090000
DTEND;TZID=Europe/Berlin:20260829T120000
DTSTAMP:20260422T225743
CREATED:20250701T170747Z
LAST-MODIFIED:20251217T174613Z
UID:1376-1787994000-1788004800@imkerverein-nebra.de
SUMMARY:Arbeitseinsatz - Vorbereitung Tag der offenen Tür
DESCRIPTION:
URL:https://imkerverein-nebra.de/event/arbeitseinsatz-10/
LOCATION:Bienenlehrgarten\, Unter der Altenburg 1\, Nebra(Unstrut)\, 06642
END:VEVENT
BEGIN:VEVENT
DTSTART;TZID=Europe/Berlin:20260829T100000
DTEND;TZID=Europe/Berlin:20260829T130000
DTSTAMP:20260422T225743
CREATED:20250701T170647Z
LAST-MODIFIED:20251223T183723Z
UID:1374-1787997600-1788008400@imkerverein-nebra.de
SUMMARY:Arbeitseinsatz - Vorbereitung Tag der offenen Tür
DESCRIPTION:
URL:https://imkerverein-nebra.de/event/arbeitseinsatz-9/
LOCATION:Bienenlehrgarten\, Unter der Altenburg 1\, Nebra(Unstrut)\, 06642
CATEGORIES:Vereinsarbeit
END:VEVENT
BEGIN:VEVENT
DTSTART;TZID=Europe/Berlin:20260829T140000
DTEND;TZID=Europe/Berlin:20260829T180000
DTSTAMP:20260422T225743
CREATED:20240517T101736Z
LAST-MODIFIED:20251223T183528Z
UID:621-1788012000-1788026400@imkerverein-nebra.de
SUMMARY:Tag der offenen Tür
DESCRIPTION:
URL:https://imkerverein-nebra.de/event/tag-der-offenen-tuer/
LOCATION:Bienenlehrgarten\, Unter der Altenburg 1\, Nebra(Unstrut)\, 06642
CATEGORIES:öffentliche Veranstaltung
END:VEVENT
END:VCALENDAR