BEGIN:VCALENDAR
VERSION:2.0
PRODID:-//Imkerverein-Nebra, Bienenlehrgarten - ECPv6.15.14//NONSGML v1.0//EN
CALSCALE:GREGORIAN
METHOD:PUBLISH
X-WR-CALNAME:Imkerverein-Nebra, Bienenlehrgarten
X-ORIGINAL-URL:https://imkerverein-nebra.de
X-WR-CALDESC:Veranstaltungen für Imkerverein-Nebra, Bienenlehrgarten
REFRESH-INTERVAL;VALUE=DURATION:PT1H
X-Robots-Tag:noindex
X-PUBLISHED-TTL:PT1H
BEGIN:VTIMEZONE
TZID:Europe/Berlin
BEGIN:DAYLIGHT
TZOFFSETFROM:+0100
TZOFFSETTO:+0200
TZNAME:CEST
DTSTART:20250330T010000
END:DAYLIGHT
BEGIN:STANDARD
TZOFFSETFROM:+0200
TZOFFSETTO:+0100
TZNAME:CET
DTSTART:20251026T010000
END:STANDARD
BEGIN:DAYLIGHT
TZOFFSETFROM:+0100
TZOFFSETTO:+0200
TZNAME:CEST
DTSTART:20260329T010000
END:DAYLIGHT
BEGIN:STANDARD
TZOFFSETFROM:+0200
TZOFFSETTO:+0100
TZNAME:CET
DTSTART:20261025T010000
END:STANDARD
BEGIN:DAYLIGHT
TZOFFSETFROM:+0100
TZOFFSETTO:+0200
TZNAME:CEST
DTSTART:20270328T010000
END:DAYLIGHT
BEGIN:STANDARD
TZOFFSETFROM:+0200
TZOFFSETTO:+0100
TZNAME:CET
DTSTART:20271031T010000
END:STANDARD
END:VTIMEZONE
BEGIN:VEVENT
DTSTART;TZID=Europe/Berlin:20260912T090000
DTEND;TZID=Europe/Berlin:20260913T160000
DTSTAMP:20260423T004102
CREATED:20250407T130434Z
LAST-MODIFIED:20260218T171238Z
UID:1159-1789203600-1789315200@imkerverein-nebra.de
SUMMARY:Honig-Schulung nach den DIB-Richtlinien mit Zertifikat  zur Anmeldung >>
DESCRIPTION:Die Honigsachkundeschulung dient zum Erwerb der nötigen Informationen und Kenntnisse zum Lebensmittel Honig und dessen Qualität\, damit von den Teilnehmenden Honig nach der Deutschen Honigverordnung und den DIB-Richtlinien qualitätsvoll erzeugt\, verarbeitet und vermarktet werden kann. \nDie Teilnehmer werden nach den neuen DIB-Richtlinien unterrichtet und erlangen den Fachkundenachweis Honig. Sie erhalten ein Teilnahme-Zertifikat\, dass sie berechtigt\, Honig in ein DIB-Glas abzufüllen\, dementsprechend zu kennzeichnen und zu vermarkten\, sofern Sie Mitglied im DIB sind. \nInhalt: \n\nGewinnung von hochwertigen Honigen\nBearbeiten\, Abfüllen und Lagerung von Honig\nWelche Werkzeuge brauche ich und welche nicht\nWoraus besteht Honig\nWelche Gesetze\, Verordnungen und Richtlinien muss ich beachten\nSteuerliche Hinweise\nWie sieht ein Marktstand aus und/oder wie präsentiere ich meinen Honig\nWas muss auf meinem eigenen Etikett unbedingt stehen\nWeitere Infos\n\nHinweis: Das Zertifikat wir nur bei erfolgter Teilnahme an beiden Tagen erteilt! \nUnser Referent: Ralf Bertram\nEs fällt ein Unkostenbeitrag pro Teilnehmer 30\,- € für beide Tage an. \n 
URL:https://imkerverein-nebra.de/event/honig-schulung-nach-den-dib-richtlinien-mit-zertifikat/
LOCATION:Bienenlehrgarten\, Unter der Altenburg 1\, Nebra(Unstrut)\, 06642
CATEGORIES:geschlossene Veranstaltung
ATTACH;FMTTYPE=image/png:https://imkerverein-nebra.de/wp-content/uploads/2025/04/honigschulung_k.png
END:VEVENT
END:VCALENDAR