BEGIN:VCALENDAR
VERSION:2.0
PRODID:-//Imkerverein-Nebra, Bienenlehrgarten - ECPv6.15.14//NONSGML v1.0//EN
CALSCALE:GREGORIAN
METHOD:PUBLISH
X-WR-CALNAME:Imkerverein-Nebra, Bienenlehrgarten
X-ORIGINAL-URL:https://imkerverein-nebra.de
X-WR-CALDESC:Veranstaltungen für Imkerverein-Nebra, Bienenlehrgarten
REFRESH-INTERVAL;VALUE=DURATION:PT1H
X-Robots-Tag:noindex
X-PUBLISHED-TTL:PT1H
BEGIN:VTIMEZONE
TZID:Europe/Berlin
BEGIN:DAYLIGHT
TZOFFSETFROM:+0100
TZOFFSETTO:+0200
TZNAME:CEST
DTSTART:20250330T010000
END:DAYLIGHT
BEGIN:STANDARD
TZOFFSETFROM:+0200
TZOFFSETTO:+0100
TZNAME:CET
DTSTART:20251026T010000
END:STANDARD
BEGIN:DAYLIGHT
TZOFFSETFROM:+0100
TZOFFSETTO:+0200
TZNAME:CEST
DTSTART:20260329T010000
END:DAYLIGHT
BEGIN:STANDARD
TZOFFSETFROM:+0200
TZOFFSETTO:+0100
TZNAME:CET
DTSTART:20261025T010000
END:STANDARD
BEGIN:DAYLIGHT
TZOFFSETFROM:+0100
TZOFFSETTO:+0200
TZNAME:CEST
DTSTART:20270328T010000
END:DAYLIGHT
BEGIN:STANDARD
TZOFFSETFROM:+0200
TZOFFSETTO:+0100
TZNAME:CET
DTSTART:20271031T010000
END:STANDARD
END:VTIMEZONE
BEGIN:VEVENT
DTSTART;TZID=Europe/Berlin:20261204T180000
DTEND;TZID=Europe/Berlin:20261204T200000
DTSTAMP:20260423T045558
CREATED:20251102T200140Z
LAST-MODIFIED:20251217T175444Z
UID:1547-1796407200-1796414400@imkerverein-nebra.de
SUMMARY:Jahresabschlussfeier
DESCRIPTION:Liebe Imkerinnen und Imker\, \nhiermit laden wir euch herzlich zur diesjährigen Jahresabschlussfeier unseres Imkervereins ein. \nIm Mittelpunkt der Versammlung steht das gemütliche Zusammentreffen und Fachsimpeln.Gern hören wir Eure Erfahrungen oder Erzählungen über das im Jahr erlebte und verkosten natürlich noch lieber Euren leckeren Honig. \nWenn ihr euch inhaltlich einbringen möchtet\, so gebt uns bitte kurz Bescheid. \nMit imkerlichen Grüßen \nDer Vorstand
URL:https://imkerverein-nebra.de/event/jahresabschlussfeier/
LOCATION:Ratskeller Laucha
CATEGORIES:Vereinsarbeit
END:VEVENT
END:VCALENDAR